BEGIN:VCALENDAR
VERSION:2.0
PRODID:-//Jakarta Multicultural School - ECPv6.3.3.1//NONSGML v1.0//EN
CALSCALE:GREGORIAN
METHOD:PUBLISH
X-WR-CALNAME:Jakarta Multicultural School
X-ORIGINAL-URL:https://jms.sch.id
X-WR-CALDESC:Events for Jakarta Multicultural School
REFRESH-INTERVAL;VALUE=DURATION:PT1H
X-Robots-Tag:noindex
X-PUBLISHED-TTL:PT1H
BEGIN:VTIMEZONE
TZID:Asia/Krasnoyarsk
BEGIN:STANDARD
TZOFFSETFROM:+0700
TZOFFSETTO:+0700
TZNAME:+07
DTSTART:20220101T000000
END:STANDARD
END:VTIMEZONE
BEGIN:VEVENT
DTSTART;VALUE=DATE:20220312
DTEND;VALUE=DATE:20220313
DTSTAMP:20260420T051942
CREATED:20220218T022049Z
LAST-MODIFIED:20220907T075939Z
UID:3821-1647043200-1647129599@jms.sch.id
SUMMARY:JMS Festival 2022
DESCRIPTION:JMS Festival 2022 coming soon! \nStay tuned! \nContact us for more information about JMS\nWhatsApp : 08119957360\nEmail : admissions@jimsch.org\nWebsite : jms.sch.id
URL:https://jms.sch.id/event/jms-festival-2022/
LOCATION:Jakarta Multicultural School\, Jl. Pisangan Raya No 12 Ciputat Timur\, Tangerang Selatan\, Banten\, 15419\, Indonesia
CATEGORIES:Event
ATTACH;FMTTYPE=image/png:https://jms.sch.id/wp-content/uploads/2022/02/JMS-FESTIVAL-2022-01.png
ORGANIZER;CN="JMS Event Organizer":MAILTO:jmsevent@jimsch.org
END:VEVENT
END:VCALENDAR