BEGIN:VCALENDAR
VERSION:2.0
PRODID:-//Jakarta Multicultural School - ECPv6.3.3.1//NONSGML v1.0//EN
CALSCALE:GREGORIAN
METHOD:PUBLISH
X-ORIGINAL-URL:https://jms.sch.id
X-WR-CALDESC:Events for Jakarta Multicultural School
REFRESH-INTERVAL;VALUE=DURATION:PT1H
X-Robots-Tag:noindex
X-PUBLISHED-TTL:PT1H
BEGIN:VTIMEZONE
TZID:Asia/Krasnoyarsk
BEGIN:STANDARD
TZOFFSETFROM:+0700
TZOFFSETTO:+0700
TZNAME:+07
DTSTART:20220101T000000
END:STANDARD
END:VTIMEZONE
BEGIN:VEVENT
DTSTART;VALUE=DATE:20220201
DTEND;VALUE=DATE:20220401
DTSTAMP:20260420T035928
CREATED:20220218T020056Z
LAST-MODIFIED:20220218T020056Z
UID:3818-1643673600-1648771199@jms.sch.id
SUMMARY:Workshop with Seife Indonesia & Seraton Studio
DESCRIPTION:Don’t miss our upcoming workshops in February & March 2022! \nSave the dates :\n• 19 February 2022 : Candle Making Workshop\n• 12 March 2022 : Shibori Totebag Workshop \nSlide to the left to see details of the workshops. \nWorkshops are in collaboration with Seife Indonesia (Candle making) & Seraton Studio (Shibori workshop). \nContact us for more information!\nWhatsApp : 08119957360\nEmail : admissions@jimsch.org\nWebsite : jms.sch.id
URL:https://jms.sch.id/event/workshop-with-seife-indonesia-seraton-studio/
LOCATION:Jakarta Multicultural School\, Jl. Pisangan Raya No 12 Ciputat Timur\, Tangerang Selatan\, Banten\, 15419\, Indonesia
CATEGORIES:Event
ATTACH;FMTTYPE=image/png:https://jms.sch.id/wp-content/uploads/2022/02/Cover-Event-01.png
ORGANIZER;CN="JMS Event Organizer":MAILTO:jmsevent@jimsch.org
END:VEVENT
BEGIN:VEVENT
DTSTART;VALUE=DATE:20220202
DTEND;VALUE=DATE:20220226
DTSTAMP:20260420T035928
CREATED:20220218T022444Z
LAST-MODIFIED:20220218T022444Z
UID:3824-1643760000-1645833599@jms.sch.id
SUMMARY:JMS Festival 2022 - Donation Program
DESCRIPTION:As part if the JMS Festival\, we will be taking donations in the form of books and stationary from 2 – 25 February 2022. \nBooks and stationary will be donated to @tbmkolong \nSlide to the left to see details of the event. \nContact us for more information about JMS!\nWhatsApp : 08119957360\nEmail : admissions@jimsch.org\nWebsite : jms.sch.id
URL:https://jms.sch.id/event/jms-festival-2022-donation-program/
LOCATION:Jakarta Multicultural School\, Jl. Pisangan Raya No 12 Ciputat Timur\, Tangerang Selatan\, Banten\, 15419\, Indonesia
CATEGORIES:Event
ATTACH;FMTTYPE=image/jpeg:https://jms.sch.id/wp-content/uploads/2022/02/JMS-DONATION-02-scaled.jpg
ORGANIZER;CN="JMS Event Organizer":MAILTO:jmsevent@jimsch.org
END:VEVENT
END:VCALENDAR