BEGIN:VCALENDAR
VERSION:2.0
PRODID:-//Jakarta Multicultural School - ECPv6.3.3.1//NONSGML v1.0//EN
CALSCALE:GREGORIAN
METHOD:PUBLISH
X-WR-CALNAME:Jakarta Multicultural School
X-ORIGINAL-URL:https://jms.sch.id
X-WR-CALDESC:Events for Jakarta Multicultural School
REFRESH-INTERVAL;VALUE=DURATION:PT1H
X-Robots-Tag:noindex
X-PUBLISHED-TTL:PT1H
BEGIN:VTIMEZONE
TZID:Asia/Krasnoyarsk
BEGIN:STANDARD
TZOFFSETFROM:+0700
TZOFFSETTO:+0700
TZNAME:+07
DTSTART:20220101T000000
END:STANDARD
END:VTIMEZONE
BEGIN:VEVENT
DTSTART;VALUE=DATE:20220117
DTEND;VALUE=DATE:20220122
DTSTAMP:20260420T035504
CREATED:20220104T072536Z
LAST-MODIFIED:20220104T072536Z
UID:3766-1642377600-1642809599@jms.sch.id
SUMMARY:Jakarta Multicultural School - Open House January 2022!
DESCRIPTION:JMS Open House 29 November – 04 December 2021! \nInternational School in South Jakarta. \nDon’t miss this opportunity to:\n– Meet and speak with our school Principal and Vice Principals\n– Get an in person school tour\n– Get our Open House Promo on school fees \nVisit the Jakarta Multicultural School in person! \nSeats limited for in-person presentations. Book your appointment now! \nWe’re looking forward to hear from you! \nContact us for more information about JMS\nWhatsApp : 08119957360\nEmail : admissions@jimsch.org\nWebsite : jms.sch.id
URL:https://jms.sch.id/event/jakarta-multicultural-school-open-house-january-2022/
LOCATION:Jakarta Multicultural School\, Jl. Pisangan Raya No 12 Ciputat Timur\, Tangerang Selatan\, Banten\, 15419\, Indonesia
CATEGORIES:Event
ATTACH;FMTTYPE=image/jpeg:https://jms.sch.id/wp-content/uploads/2022/01/Open-House-January-scaled.jpg
ORGANIZER;CN="JMS Event Organizer":MAILTO:jmsevent@jimsch.org
END:VEVENT
BEGIN:VEVENT
DTSTART;VALUE=DATE:20220121
DTEND;VALUE=DATE:20220122
DTSTAMP:20260420T035504
CREATED:20220105T031918Z
LAST-MODIFIED:20220105T031925Z
UID:3770-1642723200-1642809599@jms.sch.id
SUMMARY:The Covid-19 Vaccine Program for Students 6-11 Years Old at JMS!
DESCRIPTION:As part of our commitment to community service and to support the health and safety of our surrounding community\, the Jakarta Multicultural School will be collaborating with the South Tangerang Health and Education Department for the Covid-19 Vaccine Program. \nDate : Friday\, 21th January 2022 \nTime : 09:00 – 11:00 WIB \nVenue : Jakarta Multicultural School (Sekolah JMS) \nJl. Pisangan Raya No. 99\, Cirendeu Ciputat Timur \nFor more information: Telp : (021) 744-4864 \nWhatsApp : 0811 9957 360 \nEmail : info@jimsch.org
URL:https://jms.sch.id/event/the-covid-19-vaccine-program-for-students-6-11-years-old-at-jms/
LOCATION:Jakarta Multicultural School\, Jl. Pisangan Raya No 12 Ciputat Timur\, Tangerang Selatan\, Banten\, 15419\, Indonesia
CATEGORIES:Event
ATTACH;FMTTYPE=image/png:https://jms.sch.id/wp-content/uploads/2022/01/IG-VAKSIN_SD-01-01-1.png
ORGANIZER;CN="JMS Event Organizer":MAILTO:jmsevent@jimsch.org
END:VEVENT
END:VCALENDAR