BEGIN:VCALENDAR
VERSION:2.0
PRODID:-//Jakarta Multicultural School - ECPv6.3.3.1//NONSGML v1.0//EN
CALSCALE:GREGORIAN
METHOD:PUBLISH
X-ORIGINAL-URL:https://jms.sch.id
X-WR-CALDESC:Events for Jakarta Multicultural School
REFRESH-INTERVAL;VALUE=DURATION:PT1H
X-Robots-Tag:noindex
X-PUBLISHED-TTL:PT1H
BEGIN:VTIMEZONE
TZID:Asia/Krasnoyarsk
BEGIN:STANDARD
TZOFFSETFROM:+0700
TZOFFSETTO:+0700
TZNAME:+07
DTSTART:20220101T000000
END:STANDARD
END:VTIMEZONE
BEGIN:VEVENT
DTSTART;VALUE=DATE:20220225
DTEND;VALUE=DATE:20220226
DTSTAMP:20260424T112524
CREATED:20220218T022924Z
LAST-MODIFIED:20220907T080047Z
UID:3827-1645747200-1645833599@jms.sch.id
SUMMARY:JMS Fun Learning 2022
DESCRIPTION:Have fun learning English through games and play! \nSave the date:\n• Friday\, 25 February 2021\n• 9 AM – 2 PM \nContact us for more information about this event. \nWhatsApp : 08119957360\nEmail : admissions@jimsch.org\nWebsite : jms.sch.id
URL:https://jms.sch.id/event/jms-fun-learning-2022/
LOCATION:Jakarta Multicultural School\, Jl. Pisangan Raya No 12 Ciputat Timur\, Tangerang Selatan\, Banten\, 15419\, Indonesia
CATEGORIES:Event
ATTACH;FMTTYPE=image/png:https://jms.sch.id/wp-content/uploads/2022/02/FUN-LEARNING-02-01.png
ORGANIZER;CN="JMS Event Organizer":MAILTO:jmsevent@jimsch.org
END:VEVENT
END:VCALENDAR