BEGIN:VCALENDAR
VERSION:2.0
PRODID:-//Jakarta Multicultural School - ECPv6.3.3.1//NONSGML v1.0//EN
CALSCALE:GREGORIAN
METHOD:PUBLISH
X-WR-CALNAME:Jakarta Multicultural School
X-ORIGINAL-URL:https://jms.sch.id
X-WR-CALDESC:Events for Jakarta Multicultural School
REFRESH-INTERVAL;VALUE=DURATION:PT1H
X-Robots-Tag:noindex
X-PUBLISHED-TTL:PT1H
BEGIN:VTIMEZONE
TZID:Asia/Krasnoyarsk
BEGIN:STANDARD
TZOFFSETFROM:+0700
TZOFFSETTO:+0700
TZNAME:+07
DTSTART:20210101T000000
END:STANDARD
END:VTIMEZONE
BEGIN:VEVENT
DTSTART;TZID=Asia/Krasnoyarsk:20210810T080000
DTEND;TZID=Asia/Krasnoyarsk:20210810T140000
DTSTAMP:20260422T090514
CREATED:20210907T080132Z
LAST-MODIFIED:20210907T080132Z
UID:3512-1628582400-1628604000@jms.sch.id
SUMMARY:Vaccination Day 1 at JMS
DESCRIPTION:The Covid-19 Vaccine Program at JMS \nAs part of our commitment to community service and to support the health and safety of our surrounding community\, the Jakarta Multicultural School will be collaborating with the South Tangerang Health and Education Department for the Covid-19 Vaccine Program. \nDate : 10th August 2021\nVenue : Jakarta Multicultural School (Sekolah JMS)\nJl. Pisangan Raya no.99\, Cirendeu Ciputat Timur \nFor more information:\nTelp : (021) 744-4864\nEmail : info@jimsch.org
URL:https://jms.sch.id/event/vaccination-day-1-at-jms/
LOCATION:Jakarta Multicultural School\, Jl. Pisangan Raya No 12 Ciputat Timur\, Tangerang Selatan\, Banten\, 15419\, Indonesia
CATEGORIES:Event
ATTACH;FMTTYPE=image/jpeg:https://jms.sch.id/wp-content/uploads/2021/09/WhatsApp-Image-2021-08-06-at-14.15.49-scaled.jpeg
ORGANIZER;CN="JMS Event Organizer":MAILTO:jmsevent@jimsch.org
END:VEVENT
END:VCALENDAR